View In:
ArcGIS JavaScript
ArcGIS Online Map Viewer
ArcGIS Earth
ArcMap
ArcGIS Pro
View Footprint In:
ArcGIS Online Map Viewer
Service Description: This service has been built for a specific purpose and may change at any time. https://catalogue.data.gov.bc.ca/dataset/bc-roads-web-mercator-base-cache
Source of highways and roads outside of British Columbia: Copyright © 2016 TomTom International BV. All Rights Reserved.
Source of airport boundaries and runways: Copyright © 2016 TomTom International BV. All Rights Reserved.
Map Name: base
Legend
All Layers and Tables
Layers:
Description:
Copyright Text: Government of British Columbia, DataBC, GeoBC <a href='' target=''><img src='' /></a>
Spatial Reference:
102100
(3857)
Single Fused Map Cache: true
Tile Info:
- Height: 256
- Width: 256
- DPI: 96
-
Levels of Detail: 24
-
Level ID: 0
[ Start Tile, End Tile ]
- Resolution: 156543.03392800014
- Scale: 5.91657527591555E8
-
Level ID: 1
[ Start Tile, End Tile ]
- Resolution: 78271.51696399994
- Scale: 2.95828763795777E8
-
Level ID: 2
[ Start Tile, End Tile ]
- Resolution: 39135.75848200009
- Scale: 1.47914381897889E8
-
Level ID: 3
[ Start Tile, End Tile ]
- Resolution: 19567.87924099992
- Scale: 7.3957190948944E7
-
Level ID: 5
[ Start Tile, End Tile ]
- Resolution: 4891.96981024998
- Scale: 1.8489297737236E7
- Format: JPEG
- Compression Quality: 90.0
- Origin: X: -2.0037508342787E7
Y: 2.0037508342787E7
- Spatial Reference: 102100
(3857)
Storage Info:
- Storage Format: esriMapCacheStorageModeCompactV2
- Packet Size: 128
Initial Extent:
XMin: -1.6787658331750456E7
YMin: 9580532.784310598
XMax: -1.1980258148249539E7
YMax: 9979444.714430887
Spatial Reference: 102100
(3857)
Full Extent:
XMin: -1.6623820581063848E7
YMin: 5566153.073900595
XMax: -1.1483614715028796E7
YMax: 9245927.449898498
Spatial Reference: 102100
(3857)
Units: esriMeters
Supported Image Format Types: PNG32,PNG24,PNG,JPG,DIB,TIFF,EMF,PS,PDF,GIF,SVG,SVGZ,BMP
Document Info:
Title: DataBC
Author:
Comments: Webmercator
Subject: Webmercator
Category:
Keywords: Roads Tile Cache,Projection: Web Mercator
AntialiasingMode: None
TextAntialiasingMode: Force
Supports Dynamic Layers: false
Resampling: false
MaxRecordCount: 1000
MaxImageHeight: 4096
MaxImageWidth: 4096
Supported Query Formats: JSON, geoJSON, PBF
Supports Query Data Elements: true
Min Scale: 0
Max Scale: 0
Supports Datum Transformation: true
Child Resources:
Info
Supported Operations:
Export Map
QueryLegends
EstimateExportTilesSize
ExportTiles
Return Updates