View In:
ArcGIS JavaScript
ArcGIS Online Map Viewer
ArcGIS Earth
ArcMap
ArcGIS Pro
View Footprint In:
ArcGIS Online Map Viewer
Service Description: Published by the Ministry of Jobs, Tourism and Skills Training - DataBC Licensed under Access Only
The Data and Resource link below provides web service application program interfaces (API) that return georeferenced map images and services per the Open Geospatial Consortium Web Mapping Service (WMS) Protocol based on a variety of geographic data sources. These services can be used in a variety of tools and applications.
The BC Web Mercator Base Cache Web Map Service (WMS ) provides Base Cache information using Google Scale Levels and Web Mercator Projection EPSG:3857.
https://catalogue.data.gov.bc.ca/dataset/bc-web-mercator-base-cache
Source of highways and roads outside of British Columbia: TomTom Source of airport boundaries and runways: TomTom
Source of Building Footprints: © OpenStreetMap contributors
Map Name: base
Legend
All Layers and Tables
Layers:
Description:
Copyright Text: GeoBC, DataBC, TomTom, © OpenStreetMap contributors
Spatial Reference:
102100
(3857)
LatestVCSWkid(0)
Single Fused Map Cache: true
Tile Info:
- Height: 256
- Width: 256
- DPI: 96
-
Levels of Detail: 18
-
Level ID: 0
[ Start Tile, End Tile ]
- Resolution: 156543.03392800014
- Scale: 5.91657527591555E8
-
Level ID: 1
[ Start Tile, End Tile ]
- Resolution: 78271.51696399994
- Scale: 2.95828763795777E8
-
Level ID: 2
[ Start Tile, End Tile ]
- Resolution: 39135.75848200009
- Scale: 1.47914381897889E8
-
Level ID: 3
[ Start Tile, End Tile ]
- Resolution: 19567.87924099992
- Scale: 7.3957190948944E7
-
Level ID: 5
[ Start Tile, End Tile ]
- Resolution: 4891.96981024998
- Scale: 1.8489297737236E7
- Format: JPEG
- Compression Quality: 90.0
- Origin: X: -2.0037508342787E7
Y: 2.0037508342787E7
- Spatial Reference: 102100
(3857)
LatestVCSWkid(0)
Storage Info:
- Storage Format: esriMapCacheStorageModeCompactV2
- Packet Size: 128
Initial Extent:
XMin: -1.827590668643E7
YMin: 4338420.882088854
XMax: -1.049200979357E7
YMax: 9616332.57291114
Spatial Reference: 102100
(0)
LatestVCSWkid(0)
Full Extent:
XMin: -1.6623820581063848E7
YMin: 5566153.073900594
XMax: -1.1483614715028794E7
YMax: 9245927.449898496
Spatial Reference: 102100
(0)
LatestVCSWkid(0)
Units: esriMeters
Supported Image Format Types: PNG32,PNG24,PNG,JPG,DIB,TIFF,EMF,PS,PDF,GIF,SVG,SVGZ,BMP
Document Info:
Title: DataBC
Author:
Comments: Webmercator
Subject: Webmercator
Category:
Keywords: cache terrain base
AntialiasingMode: Best
TextAntialiasingMode: Force
Supports Dynamic Layers: false
Resampling: false
MaxRecordCount: 1000
MaxImageHeight: 8192
MaxImageWidth: 8192
Supported Query Formats: JSON, geoJSON, PBF
Supports Query Data Elements: true
Min Scale: 0
Max Scale: 0
Supports Datum Transformation: true
Child Resources:
Info
Supported Operations:
Export Map
QueryLegends
EstimateExportTilesSize
ExportTiles
Return Updates